BEGIN:VCALENDAR
VERSION:2.0
PRODID:-//Library Market//iCal Export//EN
BEGIN:VEVENT
SUMMARY:FRED Parent Support Group Meeting
UID:30589
DTSTAMP:20260422T214700Z
DTSTART:20260720T170000Z
DTEND:20260720T183000Z
LOCATION:735 Lathrop Avenue, River Forest, IL 60305, United States
ROOM: Barbara Hall Meeting Room
DESCRIPTION:.
URL:https://www.riverforestlibrary.org/event/fred-parent-support-group-mee
 ting-30589
END:VEVENT
END:VCALENDAR
