BEGIN:VCALENDAR
VERSION:2.0
PRODID:-//Library Market//iCal Export//EN
BEGIN:VEVENT
SUMMARY:Community Storytime at Wonder Works Children&#039;s Museum
UID:30583
DTSTAMP:20260421T122000Z
DTSTART:20260528T160000Z
DTEND:20260528T163000Z
LOCATION:Wonder Works Children&#039;s Museum, 6445 W North Ave, Oak Park ,
  IL 60302, United States
ROOM: Community Storytime at Wonder Works Children&#039;s Museum
DESCRIPTION:Join your favorite librarians from the RFPL Children&#039;s Ro
 om at Wonder Works Children&#039;s Museum for a special storytime! Non-mem
 bers, stop by the Children&#039;s desk for a free admission ticket, while 
 supplies last. For families.
URL:https://www.riverforestlibrary.org/event/community-storytime-wonder-wo
 rks-childrens-museum-30583
END:VEVENT
END:VCALENDAR
