BEGIN:VCALENDAR
VERSION:2.0
PRODID:-//Library Market//iCal Export//EN
BEGIN:VEVENT
SUMMARY:Policy Committee Meeting
UID:30419
DTSTAMP:20260421T082500Z
DTSTART:20260715T180000Z
DTEND:20260715T200000Z
LOCATION:River Forest Public Library, 735 Lathrop Avenue, River Forest, IL
  60305, United States
ROOM: Community Room
DESCRIPTION:
URL:https://www.riverforestlibrary.org/event/policy-committee-meeting-3041
 9
END:VEVENT
END:VCALENDAR
