BEGIN:VCALENDAR
VERSION:2.0
PRODID:-//Library Market//iCal Export//EN
BEGIN:VEVENT
SUMMARY:Susie&#039;s Retirement Party
UID:30392
DTSTAMP:20260423T025200Z
DTSTART:20260501T180000Z
DTEND:20260501T200000Z
LOCATION:735 Lathrop Avenue, River Forest, IL 60305, United States
ROOM: Barbara Hall Meeting Room
DESCRIPTION:Come and celebrate Susie&#039;s 34 years with the River Forest
  Public Library and celebrate her retirement. 
URL:https://www.riverforestlibrary.org/event/susies-retirement-party-30392
END:VEVENT
END:VCALENDAR
