BEGIN:VCALENDAR
VERSION:2.0
PRODID:-//Library Market//iCal Export//EN
BEGIN:VEVENT
SUMMARY:FRED Parent Support Group Meeting
UID:30588
DTSTAMP:20260423T043100Z
DTSTART:20260616T170000Z
DTEND:20260616T183000Z
LOCATION:735 Lathrop Avenue, River Forest, IL 60305, United States
ROOM: Barbara Hall Meeting Room
DESCRIPTION:.
URL:https://www.riverforestlibrary.org/index.php/event/fred-parent-support
 -group-meeting-30588
END:VEVENT
END:VCALENDAR
