BEGIN:VCALENDAR
VERSION:2.0
PRODID:-//Library Market//iCal Export//EN
BEGIN:VEVENT
SUMMARY:Book club meeting-River Forest Book Club Of distinction
UID:30584
DTSTAMP:20260422T200600Z
DTSTART:20260527T180000Z
DTEND:20260527T200000Z
LOCATION:735 Lathrop Avenue, River Forest, IL 60305, United States
ROOM: Barbara Hall Meeting Room
DESCRIPTION:Book club meeting
URL:https://www.riverforestlibrary.org/index.php/event/book-club-meeting-r
 iver-forest-book-club-distinction-30584
END:VEVENT
END:VCALENDAR
