BEGIN:VCALENDAR
VERSION:2.0
PRODID:-//Library Market//iCal Export//EN
BEGIN:VEVENT
SUMMARY:Girl Scouts
UID:30561
DTSTAMP:20260421T203000Z
DTSTART:20260426T200000Z
DTEND:20260426T210000Z
LOCATION:River Forest Public Library, 735 Lathrop Avenue, River Forest, IL
  60305, United States
ROOM: Community Room
DESCRIPTION:Girl Scouts Meeting
URL:https://www.riverforestlibrary.org/index.php/event/girl-scouts-30561
END:VEVENT
END:VCALENDAR
