BEGIN:VCALENDAR
VERSION:2.0
PRODID:-//Library Market//iCal Export//EN
BEGIN:VEVENT
SUMMARY:River Forest Scouts Pack 67 Wolf Den
UID:29708
DTSTAMP:20260422T214700Z
DTSTART:20260521T233000Z
DTEND:20260522T003000Z
LOCATION:735 Lathrop Avenue, River Forest, IL 60305, United States
ROOM: Barbara Hall Meeting Room
DESCRIPTION:River Forest Scouts Pack 67 Wolf Den
URL:https://www.riverforestlibrary.org/index.php/event/river-forest-scouts
 -pack-67-wolf-den-29708
END:VEVENT
END:VCALENDAR
